BEGIN:VCALENDAR
VERSION:2.0
PRODID:-//ChamberMaster//Event Calendar 2.0//EN
METHOD:PUBLISH
X-PUBLISHED-TTL:P3D
REFRESH-INTERVAL:P3D
CALSCALE:GREGORIAN
BEGIN:VEVENT
DTSTART:20161026T223000Z
DTEND:20161027T013000Z
X-MICROSOFT-CDO-ALLDAYEVENT:FALSE
SUMMARY:Young Professionals Committee -- Trick or Treat Pub Crawl
DESCRIPTION:Calling all Young Professionals!!!  Join us for the Young Professionals Committee Trick or Treat Pub Crawl! Special thanks to our sponsor In & Out Smart Phone and the participating restaurants and bars.\n\n\n\nWe will visit five pubs:\n\nBenny's Place\n\nBlackened Brew\n\nBrady's Restaurant\n\nCrescent Bar\n\nYour Mom's Restaurant & Bar
X-ALT-DESC;FMTTYPE=text/html:Calling all Young Professionals!!!&nbsp\; Join us for the Young Professionals Committee Trick or Treat Pub Crawl!&nbsp\;Special thanks to our sponsor In &amp\; Out Smart Phone and the participating restaurants and bars.<br />\n<br />\nWe will visit five pubs:<br />\nBenny&#39\;s Place<br />\nBlackened Brew<br />\nBrady&#39\;s Restaurant<br />\nCrescent Bar<br />\nYour Mom&#39\;s Restaurant &amp\; Bar
LOCATION:
UID:e.1729.1260
SEQUENCE:3
DTSTAMP:20260425T171851Z
URL:https://business.tangipahoachamber.org/events/details/young-professionals-committee-trick-or-treat-pub-crawl-1260
END:VEVENT

END:VCALENDAR
