BEGIN:VCALENDAR
VERSION:2.0
PRODID:-//ChamberMaster//Event Calendar 2.0//EN
METHOD:PUBLISH
X-PUBLISHED-TTL:P3D
REFRESH-INTERVAL:P3D
CALSCALE:GREGORIAN
BEGIN:VEVENT
DTSTART:20260224T171000Z
DTEND:20260224T190000Z
X-MICROSOFT-CDO-ALLDAYEVENT:FALSE
SUMMARY:Tangipahoa Chamber Luncheon featuring LABI President and CEO Will Green
DESCRIPTION:
X-ALT-DESC;FMTTYPE=text/html:
LOCATION:Oak Knoll Country Club 45246 Country Club Lane Hammond\, LA 70401
UID:e.1729.2856
SEQUENCE:3
DTSTAMP:20260419T135634Z
URL:https://business.tangipahoachamber.org/events/details/tangipahoa-chamber-luncheon-featuring-labi-president-and-ceo-will-green-2856
END:VEVENT

END:VCALENDAR
