BEGIN:VCALENDAR
VERSION:2.0
PRODID:-//ChamberMaster//Event Calendar 2.0//EN
METHOD:PUBLISH
X-PUBLISHED-TTL:P3D
REFRESH-INTERVAL:P3D
CALSCALE:GREGORIAN
BEGIN:VEVENT
DTSTART;VALUE=DATE:20161126
DTEND;VALUE=DATE:20161127
TRANSP:TRANSPARENT
X-MICROSOFT-CDO-ALLDAYEVENT:TRUE
SUMMARY:Shop Small Business Saturday
DESCRIPTION:Shop Chamber!  Shop Tangi!  Look for more information coming soon about supporting our local shops during Christmas and all year long!
X-ALT-DESC;FMTTYPE=text/html:Shop Chamber! &nbsp\;Shop Tangi! &nbsp\;Look for more information coming soon about supporting our local shops during Christmas and all year long!
LOCATION:
UID:e.1729.1243
SEQUENCE:3
DTSTAMP:20260425T161022Z
URL:https://business.tangipahoachamber.org/events/details/shop-small-business-saturday-11-26-2016-1243
END:VEVENT

END:VCALENDAR
