BEGIN:VCALENDAR
VERSION:2.0
PRODID:-//ChamberMaster//Event Calendar 2.0//EN
METHOD:PUBLISH
X-PUBLISHED-TTL:P3D
REFRESH-INTERVAL:P3D
CALSCALE:GREGORIAN
BEGIN:VEVENT
DTSTART:20161118T170000Z
DTEND:20161118T173000Z
X-MICROSOFT-CDO-ALLDAYEVENT:FALSE
SUMMARY:Ribbon Cutting for the new owners of University Donuts
DESCRIPTION:Who doesn't love donuts right?! Please join us as we celebrate the NEW owners of University Donuts! Will and Emily Hall are excited to be new Chamber members\, so come out and show your support!
X-ALT-DESC;FMTTYPE=text/html:<span style="color: rgb(51\, 51\, 51)\; font-family: sans-serif\, Arial\, Verdana\, &quot\;Trebuchet MS&quot\;\; font-size: 13px\; background-color: rgb(255\, 255\, 255)\;">Who</span><span style="color: rgb(51\, 51\, 51)\; font-family: sans-serif\, Arial\, Verdana\, &quot\;Trebuchet MS&quot\;\; font-size: 13px\; background-color: rgb(255\, 255\, 255)\;"> doesn&#39\;t love donuts&nbsp\;</span><span style="color: rgb(51\, 51\, 51)\; font-family: sans-serif\, Arial\, Verdana\, &quot\;Trebuchet MS&quot\;\; font-size: 13px\; background-color: rgb(255\, 255\, 255)\;">right?! P</span>lease join us as we celebrate the NEW owners of University&nbsp\;Donuts! Will and Emily Hall are excited to be new Chamber members\, so come out and show your support!
LOCATION:1215 W. University Avenue\, Hammond\, LA 70401
UID:e.1729.1264
SEQUENCE:3
DTSTAMP:20260425T161441Z
URL:https://business.tangipahoachamber.org/events/details/ribbon-cutting-for-the-new-owners-of-university-donuts-1264
END:VEVENT

END:VCALENDAR
