BEGIN:VCALENDAR
VERSION:2.0
PRODID:-//ChamberMaster//Event Calendar 2.0//EN
METHOD:PUBLISH
X-PUBLISHED-TTL:P3D
REFRESH-INTERVAL:P3D
CALSCALE:GREGORIAN
BEGIN:VEVENT
DTSTART:20161110T200000Z
DTEND:20161110T203000Z
X-MICROSOFT-CDO-ALLDAYEVENT:FALSE
SUMMARY:Ribbon Cutting for Sport Clips Haircuts
DESCRIPTION:Please join us we celebrate with Jeremy Aydell and his team of stylists! These professionals know men's hairstyles\, cuts and will give you the over all MVP experience.
X-ALT-DESC;FMTTYPE=text/html:Please join us we celebrate with Jeremy Aydell and his team of stylists! These professionals know men&#39\;s hairstyles\, cuts and will give you the over all MVP experience.&nbsp\;
LOCATION:203 Palace Drive\, Hammond\, LA 70403
UID:e.1729.1263
SEQUENCE:3
DTSTAMP:20260425T155621Z
URL:https://business.tangipahoachamber.org/events/details/ribbon-cutting-for-sport-clips-haircuts-1263
END:VEVENT

END:VCALENDAR
