BEGIN:VCALENDAR
VERSION:2.0
PRODID:-//ChamberMaster//Event Calendar 2.0//EN
METHOD:PUBLISH
X-PUBLISHED-TTL:P3D
REFRESH-INTERVAL:P3D
CALSCALE:GREGORIAN
BEGIN:VEVENT
DTSTART:20161214T180000Z
DTEND:20161214T181500Z
X-MICROSOFT-CDO-ALLDAYEVENT:FALSE
SUMMARY:Ribbon Cutting for Southeast Hair Design
DESCRIPTION:Join us as we celebrate the new location of Southeast Hair Designs! Shelly Prescia and her team of stylists are excited about their NEW location! They are conveniently located off S. Morrison Blvd next to Buddies. Cuts\, color\, highlights\, updo's & makeup are just some of the services that they offer!
X-ALT-DESC;FMTTYPE=text/html:Join us as we celebrate the new location of Southeast Hair Designs! Shelly Prescia&nbsp\;and her team of stylists are excited about their NEW location! They are conveniently located off S. Morrison Blvd next to Buddies. Cuts\, color\, highlights\, updo&#39\;s &amp\; makeup are just some of the services that they offer!&nbsp\;
LOCATION:Southeast Hair Design 1232 S Morrison Blvd. Hammond\, LA 70403
UID:e.1729.1268
SEQUENCE:3
DTSTAMP:20260425T143308Z
URL:https://business.tangipahoachamber.org/events/details/ribbon-cutting-for-southeast-hair-design-1268
END:VEVENT

END:VCALENDAR
