BEGIN:VCALENDAR
VERSION:2.0
PRODID:-//ChamberMaster//Event Calendar 2.0//EN
METHOD:PUBLISH
X-PUBLISHED-TTL:P3D
REFRESH-INTERVAL:P3D
CALSCALE:GREGORIAN
BEGIN:VEVENT
DTSTART:20161206T160000Z
DTEND:20161206T161500Z
X-MICROSOFT-CDO-ALLDAYEVENT:FALSE
SUMMARY:Ribbon Cutting for Santiago's
DESCRIPTION:Please join us as we celebrate the ribbon cutting of Santiago's Cuban Grill on Tuesday\, December 6th at 10:00 am. Alex Dalmau is proud to say that they are the 1st authentic Cuban rum bar & grill in South Louisiana! Come out and show your support for one of our newest chamber members!
X-ALT-DESC;FMTTYPE=text/html:Please join us as we celebrate the ribbon cutting&nbsp\;of Santiago&#39\;s Cuban&nbsp\;Grill on Tuesday\, December 6th at 10:00 am. Alex Dalmau is proud to say that they are the 1st authentic Cuban rum bar &amp\; grill in South Louisiana! Come out and show your support for one of our newest chamber members!
LOCATION:Santiago's Cuban Grill 207 East Thomas St. Hammond\, LA
UID:e.1729.1269
SEQUENCE:3
DTSTAMP:20260425T143441Z
URL:https://business.tangipahoachamber.org/events/details/ribbon-cutting-for-santiago-s-1269
END:VEVENT

END:VCALENDAR
