BEGIN:VCALENDAR
VERSION:2.0
PRODID:-//ChamberMaster//Event Calendar 2.0//EN
METHOD:PUBLISH
X-PUBLISHED-TTL:P3D
REFRESH-INTERVAL:P3D
CALSCALE:GREGORIAN
BEGIN:VEVENT
DTSTART:20161007T150000Z
DTEND:20161007T153000Z
X-MICROSOFT-CDO-ALLDAYEVENT:FALSE
SUMMARY:Ribbon Cutting for NextHome Real Estate Professionals
DESCRIPTION:Please join as we celebrate with NextHome Real Estate Professionals!
X-ALT-DESC;FMTTYPE=text/html:Please join as we celebrate with NextHome Real Estate Professionals!
LOCATION:101 W. Thomas St.\, Hammond\, LA 70403
UID:e.1729.1256
SEQUENCE:3
DTSTAMP:20260425T172240Z
URL:https://business.tangipahoachamber.org/events/details/ribbon-cutting-for-nexthome-real-estate-professionals-1256
END:VEVENT

END:VCALENDAR
