BEGIN:VCALENDAR
VERSION:2.0
PRODID:-//ChamberMaster//Event Calendar 2.0//EN
METHOD:PUBLISH
X-PUBLISHED-TTL:P3D
REFRESH-INTERVAL:P3D
CALSCALE:GREGORIAN
BEGIN:VEVENT
DTSTART:20161215T154500Z
DTEND:20161215T161500Z
X-MICROSOFT-CDO-ALLDAYEVENT:FALSE
SUMMARY:Ribbon Cutting for Levitate Float Center
DESCRIPTION:Have you ever wanted to float? Come with us as we cut the ribbon for Levitate Float Center on Thursday\, December 15 at 9:45 am. Ryan and Tiffani Helg are excited about starting their new business in Hammond! They offer flotation therapy\, a full o2 bar\, essential oils\, hand made soaps\, bath salts and bath bombs.
X-ALT-DESC;FMTTYPE=text/html:<span style="font-size: 12px\;"><span style="font-family: arial\;">Have you ever wanted to float? Come with us as we cut the ribbon for Levitate Float Center on Thursday\, December 15 at 9:45 am. Ryan and Tiffani Helg&nbsp\;are excited about starting their new business in Hammond! They offer flotation therapy\, a full o2 bar\, essential oils\, hand made soaps\, bath salts and bath bombs.&nbsp\;</span></span><br />\n<br />\n&nbsp\;
LOCATION:Levitate Float Center 200 E. Charles St. Hammond\, LA 70404
UID:e.1729.1270
SEQUENCE:3
DTSTAMP:20260425T143016Z
URL:https://business.tangipahoachamber.org/events/details/ribbon-cutting-for-levitate-float-center-1270
END:VEVENT

END:VCALENDAR
