BEGIN:VCALENDAR
VERSION:2.0
PRODID:-//ChamberMaster//Event Calendar 2.0//EN
METHOD:PUBLISH
X-PUBLISHED-TTL:P3D
REFRESH-INTERVAL:P3D
CALSCALE:GREGORIAN
BEGIN:VEVENT
DTSTART:20161110T223000Z
DTEND:20161111T003000Z
X-MICROSOFT-CDO-ALLDAYEVENT:FALSE
SUMMARY:Ribbon Cutting for Hammond Pre-Owned
DESCRIPTION:Please join us we celebrate the Grand Opening and Ribbon Cutting for Hammond-Pre-owned! Laurie McCants and her team are excited to serve the Hammond community and the surrounding areas.
X-ALT-DESC;FMTTYPE=text/html:<span style="background:white\;"><span style="color:#333333\;"><span style="font-family:arial\,sans-serif\;"><span style="font-size:10.0pt\;">Please join us we celebrate the Grand Opening and Ribbon Cutting for Hammond-Pre-owned</span></span></span></span>! Laurie&nbsp\;<span style="color:#333333\;"><span style="font-family:arial\,sans-serif\;"><span style="font-size:10.0pt\;"><span data-scayt-lang="en_US" data-scayt-word="McCants" style="background-position:52% 100%\;">McCants</span></span></span></span>&nbsp\;<span style="background:white\;"><span style="color:#333333\;"><span style="font-family:arial\,sans-serif\;"><span style="font-size:10.0pt\;">and her team are excited to serve the Hammond community and the surrounding areas.&nbsp\;</span></span></span></span><br />\n&nbsp\;
LOCATION:100 S. Morrison Blvd Hammond\, LA 70403
UID:e.1729.1265
SEQUENCE:3
DTSTAMP:20260425T155054Z
URL:https://business.tangipahoachamber.org/events/details/ribbon-cutting-for-hammond-pre-owned-1265
END:VEVENT

END:VCALENDAR
