BEGIN:VCALENDAR
VERSION:2.0
PRODID:-//ChamberMaster//Event Calendar 2.0//EN
METHOD:PUBLISH
X-PUBLISHED-TTL:P3D
REFRESH-INTERVAL:P3D
CALSCALE:GREGORIAN
BEGIN:VEVENT
DTSTART:20161121T154500Z
DTEND:20161121T161500Z
X-MICROSOFT-CDO-ALLDAYEVENT:FALSE
SUMMARY:Ribbon Cutting for DQ Grill & Chill
DESCRIPTION:Let the excitement begin!  DQ Grill & Chill is ready to cut the ribbon and open their doors Monday\, November 21 at 9:45 am.  Join us in congratulating the Vicari family on their new business and welcoming them to the greater Hammond community.\n\n\n\nPlease know that we will host the Ribbon Cutting promptly at 9:45 am as the restaurant will open at 10:00 am.  We are expecting a huge crowd to already be in attendance as DQ Grill & Chill has special offers for their first 100 customers. \n\n\n\nPlease keep that in mind as you plan to attend and support one of our newest Greater Hammond Chamber of Commerce members.
X-ALT-DESC;FMTTYPE=text/html:<span style="font-size: 12px\;"><span style="font-family: arial\;">Let the excitement begin!&nbsp\; DQ Grill &amp\; Chill is ready to cut the ribbon and open their doors Monday\, November 21 at 9:45 am.&nbsp\; Join us in congratulating the Vicari family on their new business and welcoming them to the greater Hammond community.<br />\n<br />\nPlease know that we will host the Ribbon Cutting promptly at 9:45 am as the restaurant will open at 10:00 am.&nbsp\; We are expecting a huge crowd to already be in attendance as DQ Grill &amp\; Chill has special offers for their first 100 customers.&nbsp\;<br />\n<br />\nPlease keep that in mind as you plan to attend and support one of our newest Greater Hammond Chamber of Commerce members.</span></span>
LOCATION:DQ Grill & Chill 210 W. Minnesota Park Road Hammond\, LA 70404
UID:e.1729.1267
SEQUENCE:3
DTSTAMP:20260425T160206Z
URL:https://business.tangipahoachamber.org/events/details/ribbon-cutting-for-dq-grill-chill-1267
END:VEVENT

END:VCALENDAR
