BEGIN:VCALENDAR
VERSION:2.0
PRODID:-//ChamberMaster//Event Calendar 2.0//EN
METHOD:PUBLISH
X-PUBLISHED-TTL:P3D
REFRESH-INTERVAL:P3D
CALSCALE:GREGORIAN
BEGIN:VEVENT
DTSTART:20160831T150000Z
DTEND:20160831T153000Z
X-MICROSOFT-CDO-ALLDAYEVENT:FALSE
SUMMARY:Ribbon Cutting for Coop Deville
DESCRIPTION:Join us as we celebrate the remodel for Coop DeVille located in the Channell Shopping Center!
X-ALT-DESC;FMTTYPE=text/html:<span style="font-size:12px\;"><span style="font-family:arial\;">Join us as we celebrate the remodel for Coop DeVille located in the Channell&nbsp\;Shopping Center!&nbsp\;</span></span>
LOCATION:1750 W Thomas St\, Hammond\, LA 70401
UID:e.1729.1251
SEQUENCE:3
DTSTAMP:20260419T135327Z
URL:https://business.tangipahoachamber.org/events/details/ribbon-cutting-for-coop-deville-08-31-2016-1251
END:VEVENT

END:VCALENDAR
