BEGIN:VCALENDAR
VERSION:2.0
PRODID:-//ChamberMaster//Event Calendar 2.0//EN
METHOD:PUBLISH
X-PUBLISHED-TTL:P3D
REFRESH-INTERVAL:P3D
CALSCALE:GREGORIAN
BEGIN:VEVENT
DTSTART:20260423T200000Z
DTEND:20260423T203000Z
X-MICROSOFT-CDO-ALLDAYEVENT:FALSE
SUMMARY:Ribbon Cutting for Carpe Librum
DESCRIPTION:
X-ALT-DESC;FMTTYPE=text/html:
LOCATION:Carpre Librum 119 S Cypress St. Hammond\, LA 70403
UID:e.1729.2891
SEQUENCE:3
DTSTAMP:20260420T215758Z
URL:https://business.tangipahoachamber.org/events/details/ribbon-cutting-for-carpe-librum-2891
END:VEVENT

END:VCALENDAR
