BEGIN:VCALENDAR
VERSION:2.0
PRODID:-//ChamberMaster//Event Calendar 2.0//EN
METHOD:PUBLISH
X-PUBLISHED-TTL:P3D
REFRESH-INTERVAL:P3D
CALSCALE:GREGORIAN
BEGIN:VEVENT
DTSTART:20161020T180000Z
DTEND:20161020T183000Z
X-MICROSOFT-CDO-ALLDAYEVENT:FALSE
SUMMARY:Ribbon Cutting for AutoGyro of Louisiana LLC
DESCRIPTION:Please join as we celebrate with AutoGyro of Louisiana\, LLC!
X-ALT-DESC;FMTTYPE=text/html:Please join as we celebrate with&nbsp\;AutoGyro&nbsp\;of Louisiana\, LLC!
LOCATION:600 N. Airport Rd Hammond LA 70401
UID:e.1729.1259
SEQUENCE:3
DTSTAMP:20260425T174513Z
URL:https://business.tangipahoachamber.org/events/details/ribbon-cutting-for-autogyro-of-louisiana-llc-1259
END:VEVENT

END:VCALENDAR
