BEGIN:VCALENDAR
VERSION:2.0
PRODID:-//ChamberMaster//Event Calendar 2.0//EN
METHOD:PUBLISH
X-PUBLISHED-TTL:P3D
REFRESH-INTERVAL:P3D
CALSCALE:GREGORIAN
BEGIN:VEVENT
DTSTART:20161021T200000Z
DTEND:20161021T203000Z
X-MICROSOFT-CDO-ALLDAYEVENT:FALSE
SUMMARY:Ribbon Cutting and Re-Grand Opening for Parishes Supportive Living\, Inc.
DESCRIPTION:Please join as we celebrate the remodel of Parishes Supportive Living!
X-ALT-DESC;FMTTYPE=text/html:Please join as we celebrate the remodel of Parishes Supportive Living!
LOCATION:509 S. Chestnut St\, Hammond\, LA 70403
UID:e.1729.1257
SEQUENCE:3
DTSTAMP:20260425T174544Z
URL:https://business.tangipahoachamber.org/events/details/ribbon-cutting-and-re-grand-opening-for-parishes-supportive-living-inc-1257
END:VEVENT

END:VCALENDAR
