BEGIN:VCALENDAR
VERSION:2.0
PRODID:-//ChamberMaster//Event Calendar 2.0//EN
METHOD:PUBLISH
X-PUBLISHED-TTL:P3D
REFRESH-INTERVAL:P3D
CALSCALE:GREGORIAN
BEGIN:VEVENT
DTSTART:20150916T220000Z
DTEND:20150917T000000Z
X-MICROSOFT-CDO-ALLDAYEVENT:FALSE
SUMMARY:Parish President Candidates Forum/Candidates Meet and Greet
DESCRIPTION:The Greater Hammond Chamber of Commerce\, Ponchatoula and Amite chambers and the Southeastern Louisiana University Student Government Association are hosting a Candidate Meet & Greet and Parish Presidential Forum to allow voters the opportunity to meet the candidates and have their questions answered. \n\n\n\nFrom 5 to 6 p.m. members of the community will be able to visit candidate tables before attending the Forum for Parish Presidential candidates at 6 p.m. Two of the four Parish Presidential candidates   Robby Miller and Carlos Notariano   have agreed to participate in the Forum. \n\n\n\nThe Meet & Greet and Forum will be held on the third floor of the new Southeastern Student Union. Parking will be available on Texas Avenue on Southeastern Campus. The Forum will be aired live on the radio at KSLU 90.9 and Tangi 96.5\, as well as recorded by the Southeastern Channel for future broadcast on Charter Cable 199.\n\n\n\nCandidates participating in the Meet & Greet are: \n\n\n	Governor\n\n	\n		Beryl Billiot\n		John Bel Edwards\n	\n	\n	Lieutenant Governor\n	\n		Billy Nungesser\n		John Young\n	\n	\n	Commissioner of Insurance\n	\n		Matt Parker\n	\n	\n	BESE District 6\n	\n		Etta Licciardi\n	\n	\n	Louisiana State Senator District 12\n	\n		Brett Duncan\n		Beth Mizell\n		Mickey Murphy\n	\n	\n	Louisiana State Representative District 72\n	\n		Osa Bett-Williams\n	\n	\n	Louisiana State Representative District 73\n	\n		Tim Bailey\n		Steve Pugh\n	\n	\n	Tangipahoa Parish President\n	\n		Robby Miller\n		Carlos Notariano\n	\n	\n	Tangipahoa Parish Sheriff\n	\n		Oscar 'Omar' Dantzler\, Jr. \n		Daniel Edwards\n		Marty Bankston Johnson\n		Sherman Phares \n		Arden Wells\n	\n	\n	Assessor\n	\n		Joaquin 'JR' Matheu\n	\n	\n	Tangipahoa Parish Councilmen\n	\n		James D. Bailey\n		Trenton Craig Forrest\n		Louis 'Nick' Joseph\n		Donna Just\n		Joey Mayeaux\n		Daniel Mercante\n		Nicky Muscarello\n		H.G. Buddy Ridgel\n		Greg Varnado\n		David Vial\n	\n	\n	Tangipahoa Parish School Board\n	\n		J. Kelly\n		Betty Clark Robinson\n	\n	\n\nCouncilmen Harry Lavine and Ronnie Bankston indicated their interest in attending the event\, but were unable to due to a prior commitment to the Drainage Board.
X-ALT-DESC;FMTTYPE=text/html:The Greater Hammond Chamber of Commerce\, Ponchatoula and Amite&nbsp\;chambers and the Southeastern Louisiana University Student Government Association are hosting a Candidate Meet &amp\; Greet and Parish Presidential Forum to allow voters the opportunity to meet the candidates and have their questions answered.&nbsp\;<br />\n<br />\n<span style="font-family:arial\,sans-serif\;">From 5 to 6 p.m. members of the community will be able to visit candidate tables before attending the Forum for Parish Presidential candidates at 6 p.m. Two of the four Parish Presidential candidates &ndash\; Robby Miller and Carlos&nbsp\;Notariano &ndash\; have agreed to participate in the Forum.&nbsp\;<br />\n<br />\nThe Meet &amp\; Greet and Forum will be held on the third floor of the new Southeastern Student Union. Parking will be available on Texas Avenue on Southeastern Campus. The Forum will be aired live on the radio at KSLU 90.9 and Tangi 96.5\, as well as recorded by the Southeastern Channel for future broadcast on Charter Cable 199.</span><br />\n<br />\n<span style="font-family:arial\,sans-serif\;">Candidates participating in the Meet &amp\; Greet are: </span>\n\n<ul>\n	<li><span style="font-family:arial\,sans-serif\;">Governor</span>\n\n	<ul style="list-style-type:circle\;">\n		<li><span style="font-family:arial\,sans-serif\;">Beryl Billiot</span></li>\n		<li><span style="font-family:arial\,sans-serif\;">John Bel Edwards</span></li>\n	</ul>\n	</li>\n	<li><span style="font-family:arial\,sans-serif\;">Lieutenant Governor</span>\n	<ul style="list-style-type:circle\;">\n		<li><span style="font-family:arial\,sans-serif\;">Billy Nungesser</span></li>\n		<li><span style="font-family:arial\,sans-serif\;">John Young</span></li>\n	</ul>\n	</li>\n	<li><span style="font-family:arial\,sans-serif\;">Commissioner of Insurance</span>\n	<ul style="list-style-type:circle\;">\n		<li><span style="font-family:arial\,sans-serif\;">Matt Parker</span></li>\n	</ul>\n	</li>\n	<li><span style="font-family:arial\,sans-serif\;">BESE District 6</span>\n	<ul style="list-style-type:circle\;">\n		<li><span style="font-family:arial\,sans-serif\;">Etta Licciardi</span></li>\n	</ul>\n	</li>\n	<li><span style="font-family:arial\,sans-serif\;">Louisiana State Senator District 12</span>\n	<ul style="list-style-type:circle\;">\n		<li><span style="font-family:arial\,sans-serif\;">Brett Duncan</span></li>\n		<li><span style="font-family:arial\,sans-serif\;">Beth Mizell</span></li>\n		<li><span style="font-family:arial\,sans-serif\;">Mickey Murphy</span></li>\n	</ul>\n	</li>\n	<li><span style="font-family:arial\,sans-serif\;">Louisiana State Representative District 72</span>\n	<ul style="list-style-type:circle\;">\n		<li><span style="font-family:arial\,sans-serif\;">Osa Bett-Williams</span></li>\n	</ul>\n	</li>\n	<li><span style="font-family:arial\,sans-serif\;">Louisiana State Representative District 73</span>\n	<ul style="list-style-type:circle\;">\n		<li><span style="font-family:arial\,sans-serif\;">Tim Bailey</span></li>\n		<li><span style="font-family:arial\,sans-serif\;">Steve Pugh</span></li>\n	</ul>\n	</li>\n	<li><span style="font-family:arial\,sans-serif\;">Tangipahoa Parish President</span>\n	<ul style="list-style-type:circle\;">\n		<li><span style="font-family:arial\,sans-serif\;">Robby Miller</span></li>\n		<li><span style="font-family:arial\,sans-serif\;">Carlos Notariano</span></li>\n	</ul>\n	</li>\n	<li><span style="font-family:arial\,sans-serif\;">Tangipahoa Parish Sheriff</span>\n	<ul style="list-style-type:circle\;">\n		<li><span style="font-family:arial\,sans-serif\;">Oscar &lsquo\;Omar&rsquo\; Dantzler\, Jr. </span></li>\n		<li><span style="font-family:arial\,sans-serif\;">Daniel Edwards</span></li>\n		<li><span style="font-family:arial\,sans-serif\;">Marty Bankston Johnson</span></li>\n		<li><span style="font-family:arial\,sans-serif\;">Sherman Phares </span></li>\n		<li><span style="font-family:arial\,sans-serif\;">Arden Wells</span></li>\n	</ul>\n	</li>\n	<li><span style="font-family:arial\,sans-serif\;">Assessor</span>\n	<ul style="list-style-type:circle\;">\n		<li><span style="font-family:arial\,sans-serif\;">Joaquin &lsquo\;JR&rsquo\; Matheu</span></li>\n	</ul>\n	</li>\n	<li><span style="font-family:arial\,sans-serif\;">Tangipahoa Parish Councilmen</span>\n	<ul style="list-style-type:circle\;">\n		<li><span style="font-family:arial\,sans-serif\;">James D. Bailey</span></li>\n		<li><span style="font-family:arial\,sans-serif\;">Trenton Craig Forrest</span></li>\n		<li><span style="font-family:arial\,sans-serif\;">Louis &lsquo\;Nick&rsquo\; Joseph</span></li>\n		<li><span style="font-family:arial\,sans-serif\;">Donna Just</span></li>\n		<li><span style="font-family:arial\,sans-serif\;">Joey Mayeaux</span></li>\n		<li><span style="font-family:arial\,sans-serif\;">Daniel Mercante</span></li>\n		<li><span style="font-family:arial\,sans-serif\;">Nicky Muscarello</span></li>\n		<li><span style="font-family:arial\,sans-serif\;">H.G. Buddy Ridgel</span></li>\n		<li><span style="font-family:arial\,sans-serif\;">Greg Varnado</span></li>\n		<li><span style="font-family:arial\,sans-serif\;">David Vial</span></li>\n	</ul>\n	</li>\n	<li><span style="font-family:arial\,sans-serif\;">Tangipahoa Parish School Board</span>\n	<ul style="list-style-type:circle\;">\n		<li><span style="font-family:arial\,sans-serif\;">J. Kelly</span></li>\n		<li><span style="font-family:arial\,sans-serif\;">Betty Clark Robinson</span></li>\n	</ul>\n	</li>\n</ul>\n<span style="font-family:arial\,sans-serif\;">Councilmen Harry Lavine and Ronnie Bankston indicated their interest in attending the event\, but were unable to due to a prior commitment to the Drainage Board.&nbsp\;</span><br />\n&nbsp\;
LOCATION:Southeastern Louisiana University Student Union Ballroom
UID:e.1729.914
SEQUENCE:3
DTSTAMP:20260420T140557Z
URL:https://business.tangipahoachamber.org/events/details/parish-president-candidates-forum-candidates-meet-and-greet-09-16-2015-914
END:VEVENT

END:VCALENDAR
