BEGIN:VCALENDAR
VERSION:2.0
PRODID:-//ChamberMaster//Event Calendar 2.0//EN
METHOD:PUBLISH
X-PUBLISHED-TTL:P3D
REFRESH-INTERVAL:P3D
CALSCALE:GREGORIAN
BEGIN:VEVENT
DTSTART:20150903T010000Z
DTEND:20150903T020000Z
X-MICROSOFT-CDO-ALLDAYEVENT:FALSE
SUMMARY:Northshore Gubernatorial Forum
DESCRIPTION:
X-ALT-DESC;FMTTYPE=text/html:
LOCATION:Columbia Theatre
UID:e.1729.1125
SEQUENCE:3
DTSTAMP:20260420T135947Z
URL:https://business.tangipahoachamber.org/events/details/northshore-gubernatorial-forum-09-02-2015-1125
END:VEVENT

END:VCALENDAR
