BEGIN:VCALENDAR
VERSION:2.0
PRODID:-//ChamberMaster//Event Calendar 2.0//EN
METHOD:PUBLISH
X-PUBLISHED-TTL:P3D
REFRESH-INTERVAL:P3D
CALSCALE:GREGORIAN
BEGIN:VEVENT
DTSTART:20151006T130000Z
DTEND:20151006T140000Z
X-MICROSOFT-CDO-ALLDAYEVENT:FALSE
SUMMARY:Non-Dues Revenue Committee
DESCRIPTION:Non-Dues Revenue Committee Meeting
X-ALT-DESC;FMTTYPE=text/html:Non-Dues Revenue Committee Meeting
LOCATION:Greater Hammond Chamber of Commerce Office 400 NW Railroad Ave.
UID:e.1729.542
SEQUENCE:3
DTSTAMP:20260420T122641Z
URL:https://business.tangipahoachamber.org/events/details/non-dues-revenue-committee-10-06-2015-542
END:VEVENT

END:VCALENDAR
