BEGIN:VCALENDAR
VERSION:2.0
PRODID:-//ChamberMaster//Event Calendar 2.0//EN
METHOD:PUBLISH
X-PUBLISHED-TTL:P3D
REFRESH-INTERVAL:P3D
CALSCALE:GREGORIAN
BEGIN:VEVENT
DTSTART:20161004T161500Z
DTEND:20161004T180000Z
X-MICROSOFT-CDO-ALLDAYEVENT:FALSE
SUMMARY:Luncheon featuring Dr. Loren C. Scott
DESCRIPTION:Dr. Loren C. Scott\, Louisiana Economist and Professor Emeritus at Louisiana State University\, will present his "Louisiana Economic Outlook" at the October luncheon.  Scott's much anticipated report presents a regional perspective and serves as a useful tool for business leaders as they plan for the coming year. \n\n\n\nTangipahoa Parish\, Hammond and Ponchatoula were named as the newest Louisiana Metropolitan Statistical Area in 2015 and will be included in the economic outlook. The information he will share is meaningful to our business community.\n\n\n\nSpecial thanks to First Guaranty Bank and Florida Parishes Bank for sponsoring this important event.
X-ALT-DESC;FMTTYPE=text/html:Dr. Loren C. Scott\, Louisiana&nbsp\;Economist and Professor&nbsp\;Emeritus at Louisiana State University\,&nbsp\;will present his &quot\;Louisiana Economic&nbsp\;Outlook&quot\; at the October luncheon. &nbsp\;Scott&#39\;s much anticipated report presents&nbsp\;a regional perspective and serves as&nbsp\;a useful tool for business leaders as they&nbsp\;plan for the coming year.&nbsp\;<br />\n<br />\nTangipahoa Parish\, Hammond&nbsp\;and Ponchatoula were named as&nbsp\;the newest Louisiana Metropolitan Statistical&nbsp\;Area in 2015 and&nbsp\;will&nbsp\;be included in the economic outlook. The information he will share is meaningful to our business community.<br />\n<br />\nSpecial thanks to First Guaranty Bank and Florida Parishes Bank for sponsoring this important event.
LOCATION:The Event Center LaMaison Celebrazione 1904 Nashville Avenue Hammond\, LA 70401
UID:e.1729.1258
SEQUENCE:3
DTSTAMP:20260425T171657Z
URL:https://business.tangipahoachamber.org/events/details/luncheon-featuring-dr-loren-c-scott-1258
END:VEVENT

END:VCALENDAR
