BEGIN:VCALENDAR
VERSION:2.0
PRODID:-//ChamberMaster//Event Calendar 2.0//EN
METHOD:PUBLISH
X-PUBLISHED-TTL:P3D
REFRESH-INTERVAL:P3D
CALSCALE:GREGORIAN
BEGIN:VEVENT
DTSTART:20161208T173000Z
DTEND:20161208T190000Z
X-MICROSOFT-CDO-ALLDAYEVENT:FALSE
SUMMARY:Leads for Lunch
DESCRIPTION:Join us for Leads for Lunch and grow your business!  Thank you Phillip Colwart Photography for sponsoring this month's event.  Look for more information soon on a special professional headshot offer by Phillip before and after this event.\n\n\n\nDon't forget about our "Best Pitch" contest!  Be ready with your 30 second pitch and best slogan to have the chance to have your business pitch shared on our Facebook page.  Just another way the Greater Hammond Chamber is helping you promote your business to the community!
X-ALT-DESC;FMTTYPE=text/html:<span style="font-size: 14px\;"><span style="font-family: arial\;">Join us for Leads&nbsp\;for Lunch and grow your business! &nbsp\;Thank you Phillip Colwart Photography for sponsoring this month&#39\;s event. &nbsp\;Look for more information soon on a special professional headshot offer by Phillip before and after this event.<br />\n<br />\nDon&#39\;t forget about our &quot\;Best Pitch&quot\; contest!&nbsp\; Be ready with your 30 second pitch and best slogan to have the chance to have your business&nbsp\;pitch shared on our Facebook page.&nbsp\; Just another way the Greater Hammond Chamber is helping you promote your business to the community!</span></span><br />\n<br />\n<br />\n&nbsp\;
LOCATION:Holiday Inn 1819 SW Railroad Ave.
UID:e.1729.1227
SEQUENCE:3
DTSTAMP:20260425T143129Z
URL:https://business.tangipahoachamber.org/events/details/leads-for-lunch-12-08-2016-1227
END:VEVENT

END:VCALENDAR
