BEGIN:VCALENDAR
VERSION:2.0
PRODID:-//ChamberMaster//Event Calendar 2.0//EN
METHOD:PUBLISH
X-PUBLISHED-TTL:P3D
REFRESH-INTERVAL:P3D
CALSCALE:GREGORIAN
BEGIN:VEVENT
DTSTART:20161111T134500Z
DTEND:20161111T150000Z
X-MICROSOFT-CDO-ALLDAYEVENT:FALSE
SUMMARY:Leads for Breakfast
DESCRIPTION:You asked\, and we listened!  Our popular members only Leads networking will now be available at breakfast and lunch.\n\n\n\nThe new Leads for Breakfast events will be held at the Chamber office on the Friday following regular Leads for Lunch events.  We will start with hot coffee and light breakfast treats and then make our 30 second pitches to promote our business!  Register early as this event is limited to 25 attendees!
X-ALT-DESC;FMTTYPE=text/html:You asked\, and we listened!&nbsp\; Our popular members only Leads networking will now be available at breakfast and lunch.<br />\n<br />\nThe new Leads for Breakfast events will be held at the Chamber office on the Friday following regular Leads for Lunch events.&nbsp\; We will start with hot coffee and light breakfast treats and then make our 30 second pitches to promote our business!&nbsp\; Register early as this event is limited to 25 attendees!<br />\n&nbsp\;
LOCATION:Chamber Office 400 NW Railroad Avenue
UID:e.1729.1231
SEQUENCE:3
DTSTAMP:20260425T154745Z
URL:https://business.tangipahoachamber.org/events/details/leads-for-breakfast-11-11-2016-1231
END:VEVENT

END:VCALENDAR
