BEGIN:VCALENDAR
VERSION:2.0
PRODID:-//ChamberMaster//Event Calendar 2.0//EN
METHOD:PUBLISH
X-PUBLISHED-TTL:P3D
REFRESH-INTERVAL:P3D
CALSCALE:GREGORIAN
BEGIN:VEVENT
DTSTART:20151015T163000Z
DTEND:20151015T180000Z
X-MICROSOFT-CDO-ALLDAYEVENT:FALSE
SUMMARY:Leads 4 Lunch - BBB Luncheon
DESCRIPTION:On-line registration is now closed for this event. We will have a few spots available at the door.\n\n\n\nChamber Leads 4 Lunch and BBB Parish to Parish Luncheon \n\nSponsored by La Capitol Federal Credit Union\, Louisiana Federal Credit Union and Baton Rouge Telco Federal Credit Union
X-ALT-DESC;FMTTYPE=text/html:<span style="color: rgb(255\, 0\, 0)\;">On-line registration is now closed for this event.&nbsp\;We will have a few spots available at the door.</span><br />\n<br />\nChamber Leads 4 Lunch and BBB Parish to Parish Luncheon&nbsp\;<br />\nSponsored by La Capitol Federal Credit Union\, Louisiana Federal Credit Union and Baton Rouge Telco Federal Credit Union
LOCATION:Holiday Inn Hammond - Northshore 1819 SW Railroad Ave Hammond\, LA 70403
UID:e.1729.911
SEQUENCE:3
DTSTAMP:20260420T122506Z
URL:https://business.tangipahoachamber.org/events/details/leads-4-lunch-bbb-luncheon-10-15-2015-911
END:VEVENT

END:VCALENDAR
