BEGIN:VCALENDAR
VERSION:2.0
PRODID:-//ChamberMaster//Event Calendar 2.0//EN
METHOD:PUBLISH
X-PUBLISHED-TTL:P3D
REFRESH-INTERVAL:P3D
CALSCALE:GREGORIAN
BEGIN:VEVENT
DTSTART:20150910T163000Z
DTEND:20150910T180000Z
X-MICROSOFT-CDO-ALLDAYEVENT:FALSE
SUMMARY:Leads 4 Lunch
DESCRIPTION:Leads 4 Lunch   \n\nSponsored by ITC Promotions
X-ALT-DESC;FMTTYPE=text/html:Leads 4 Lunch&nbsp\; &nbsp\;<br />\nSponsored by ITC Promotions
LOCATION:Holiday Inn 1819 SW Railroad Ave.
UID:e.1729.907
SEQUENCE:3
DTSTAMP:20260420T135814Z
URL:https://business.tangipahoachamber.org/events/details/leads-4-lunch-09-10-2015-907
END:VEVENT

END:VCALENDAR
