BEGIN:VCALENDAR
VERSION:2.0
PRODID:-//ChamberMaster//Event Calendar 2.0//EN
METHOD:PUBLISH
X-PUBLISHED-TTL:P3D
REFRESH-INTERVAL:P3D
CALSCALE:GREGORIAN
BEGIN:VEVENT
DTSTART:20161201T133000Z
DTEND:20161201T144500Z
X-MICROSOFT-CDO-ALLDAYEVENT:FALSE
SUMMARY:Just the Facts: Hammond Police Chief James Stewart
DESCRIPTION:The Greater Hammond Chamber of Commerce delivers member support through our new "Just the Facts" breakfast events. Let's start the day together on Thursday\, December 1 to talk with Hammond Police Chief James Stewart talking about everything from personal safety to cyber and credit card security during the holidays.
X-ALT-DESC;FMTTYPE=text/html:<span style="font-size: 12px\;"><span style="font-family: arial\;">The Greater Hammond Chamber of Commerce delivers member support through our new &quot\;Just the Facts&quot\; breakfast events. Let&#39\;s start the day together on Thursday\,&nbsp\;December 1 to talk with&nbsp\;Hammond Police Chief James Stewart talking about everything from personal safety to cyber and credit card security during the holidays.&nbsp\; &nbsp\;</span></span>
LOCATION:Southeastern Louisiana University Alumni Center 500 West University Hammond\, LA 70401
UID:e.1729.1266
SEQUENCE:3
DTSTAMP:20260425T144200Z
URL:https://business.tangipahoachamber.org/events/details/just-the-facts-hammond-police-chief-james-stewart-1266
END:VEVENT

END:VCALENDAR
