BEGIN:VCALENDAR
VERSION:2.0
PRODID:-//ChamberMaster//Event Calendar 2.0//EN
METHOD:PUBLISH
X-PUBLISHED-TTL:P3D
REFRESH-INTERVAL:P3D
CALSCALE:GREGORIAN
BEGIN:VEVENT
DTSTART:20161207T133000Z
DTEND:20161207T150000Z
X-MICROSOFT-CDO-ALLDAYEVENT:FALSE
SUMMARY:Ham'nd Eggs
DESCRIPTION:We love this Greater Hammond Chamber Tradition!  December Ham'nd Eggs with Premier Level Members -- Cypress Pointe Hospital!  We look forward to seeing you there.
X-ALT-DESC;FMTTYPE=text/html:We love this Greater Hammond Chamber Tradition!&nbsp\; December Ham&#39\;nd Eggs with Premier Level Members -- Cypress Pointe Hospital!&nbsp\;&nbsp\;We look forward to seeing you there.
LOCATION:Cypress Pointe Hospital 42570 Airport Road Hammond
UID:e.1729.1238
SEQUENCE:3
DTSTAMP:20260425T142725Z
URL:https://business.tangipahoachamber.org/events/details/ham-nd-eggs-12-07-2016-1238
END:VEVENT

END:VCALENDAR
