BEGIN:VCALENDAR
VERSION:2.0
PRODID:-//ChamberMaster//Event Calendar 2.0//EN
METHOD:PUBLISH
X-PUBLISHED-TTL:P3D
REFRESH-INTERVAL:P3D
CALSCALE:GREGORIAN
BEGIN:VEVENT
DTSTART:20151202T133000Z
DTEND:20151202T150000Z
X-MICROSOFT-CDO-ALLDAYEVENT:FALSE
SUMMARY:Ham'nd Eggs
DESCRIPTION:Ham'nd Eggs\n\nSponsored by Cypress Pointe Surgical Hospital
X-ALT-DESC;FMTTYPE=text/html:Ham&#39\;nd Eggs<br />\nSponsored by Cypress Pointe Surgical Hospital
LOCATION:Cypress Pointe Surgical Hospital 42570 S. Airport Rd.
UID:e.1729.1122
SEQUENCE:3
DTSTAMP:20260422T095630Z
URL:https://business.tangipahoachamber.org/events/details/ham-nd-eggs-12-02-2015-1122
END:VEVENT

END:VCALENDAR
