BEGIN:VCALENDAR
VERSION:2.0
PRODID:-//ChamberMaster//Event Calendar 2.0//EN
METHOD:PUBLISH
X-PUBLISHED-TTL:P3D
REFRESH-INTERVAL:P3D
CALSCALE:GREGORIAN
BEGIN:VEVENT
DTSTART:20151104T133000Z
DTEND:20151104T150000Z
X-MICROSOFT-CDO-ALLDAYEVENT:FALSE
SUMMARY:Ham'nd Eggs
DESCRIPTION:Ham'nd Eggs\n\nSponsored by Ginger Ford Northshore Fuller Center for Housing and Bobby Drude Realty
X-ALT-DESC;FMTTYPE=text/html:Ham&#39\;nd Eggs<br />\nSponsored by Ginger Ford Northshore Fuller Center for Housing and Bobby Drude Realty
LOCATION:ReUse Store 955 S. Morrison Blvd. Hammond\, La. 985-419-0256
UID:e.1729.1119
SEQUENCE:3
DTSTAMP:20260424T024913Z
URL:https://business.tangipahoachamber.org/events/details/ham-nd-eggs-11-04-2015-1119
END:VEVENT

END:VCALENDAR
