BEGIN:VCALENDAR
VERSION:2.0
PRODID:-//ChamberMaster//Event Calendar 2.0//EN
METHOD:PUBLISH
X-PUBLISHED-TTL:P3D
REFRESH-INTERVAL:P3D
CALSCALE:GREGORIAN
BEGIN:VEVENT
DTSTART:20161102T123000Z
DTEND:20161102T140000Z
X-MICROSOFT-CDO-ALLDAYEVENT:FALSE
SUMMARY:Ham'nd Eggs
DESCRIPTION:Join us as we celebrate Ham'nd Eggs at the ReUse Store on the Fuller Center Campus.  Special thanks to First Access Mortgage and Cracker Barrel for sponsoring with the ReUse Store.
X-ALT-DESC;FMTTYPE=text/html:Join us as we celebrate Ham&#39\;nd Eggs at the ReUse Store on the Fuller Center Campus. &nbsp\;Special thanks to First Access Mortgage and Cracker Barrel for sponsoring with the ReUse Store.
LOCATION:ReUse Store on the Fuller Center Campus 955 S. Morrison Blvd. Hammond
UID:e.1729.1237
SEQUENCE:3
DTSTAMP:20260425T154443Z
URL:https://business.tangipahoachamber.org/events/details/ham-nd-eggs-11-02-2016-1237
END:VEVENT

END:VCALENDAR
