BEGIN:VCALENDAR
VERSION:2.0
PRODID:-//ChamberMaster//Event Calendar 2.0//EN
METHOD:PUBLISH
X-PUBLISHED-TTL:P3D
REFRESH-INTERVAL:P3D
CALSCALE:GREGORIAN
BEGIN:VEVENT
DTSTART:20151007T123000Z
DTEND:20151007T140000Z
X-MICROSOFT-CDO-ALLDAYEVENT:FALSE
SUMMARY:Ham'nd Eggs
DESCRIPTION:Ham'nd Eggs\n\nSponsored by Regina Coeli Child Development Center - Head Start
X-ALT-DESC;FMTTYPE=text/html:Ham&#39\;nd Eggs<br />\nSponsored by Regina Coeli&nbsp\;Child Development Center - Head Start<br />\n&nbsp\;
LOCATION:Regina Coeli Child Development Center 22476 Hwy. 190 Robert\, LA 70455
UID:e.1729.909
SEQUENCE:3
DTSTAMP:20260420T122212Z
URL:https://business.tangipahoachamber.org/events/details/ham-nd-eggs-10-07-2015-909
END:VEVENT

END:VCALENDAR
