BEGIN:VCALENDAR
VERSION:2.0
PRODID:-//ChamberMaster//Event Calendar 2.0//EN
METHOD:PUBLISH
X-PUBLISHED-TTL:P3D
REFRESH-INTERVAL:P3D
CALSCALE:GREGORIAN
BEGIN:VEVENT
DTSTART:20161005T123000Z
DTEND:20161005T140000Z
X-MICROSOFT-CDO-ALLDAYEVENT:FALSE
SUMMARY:Ham'nd Eggs
DESCRIPTION:Join us as we celebrate Ham'nd Eggs with Regina Coeli Child Development Center Head Start.  Special thanks to Durnin & James\, CPA's for sponsoring the event as well.  Meet us to learn more about this exciting program and what they are doing to help our children.
X-ALT-DESC;FMTTYPE=text/html:Join us as we celebrate Ham&#39\;nd Eggs with Regina Coeli Child Development Center Head Start. &nbsp\;Special thanks to Durnin &amp\; James\, CPA&#39\;s&nbsp\;for sponsoring the event as well.&nbsp\; Meet us to learn more about this exciting program and what they are doing to help our children.
LOCATION:Due to flooding at the Center we will see you at the Hammond Branch Library. 314 E. Thomas Street Hammond
UID:e.1729.1236
SEQUENCE:3
DTSTAMP:20260425T171521Z
URL:https://business.tangipahoachamber.org/events/details/ham-nd-eggs-10-05-2016-1236
END:VEVENT

END:VCALENDAR
