BEGIN:VCALENDAR
VERSION:2.0
PRODID:-//ChamberMaster//Event Calendar 2.0//EN
METHOD:PUBLISH
X-PUBLISHED-TTL:P3D
REFRESH-INTERVAL:P3D
CALSCALE:GREGORIAN
BEGIN:VEVENT
DTSTART:20150902T123000Z
DTEND:20150902T140000Z
X-MICROSOFT-CDO-ALLDAYEVENT:FALSE
SUMMARY:Ham'nd Eggs
DESCRIPTION:Ham'nd Eggs\n\nSponsored by Alexis Ducorbier State Farm and Subway Sandwiches
X-ALT-DESC;FMTTYPE=text/html:Ham&#39\;nd Eggs<br />\nSponsored by Alexis Ducorbier State Farm and Subway Sandwiches
LOCATION:Subway Sandwiches 1635 SW Railroad Hammond LA
UID:e.1729.905
SEQUENCE:3
DTSTAMP:20260420T135645Z
URL:https://business.tangipahoachamber.org/events/details/ham-nd-eggs-09-02-2015-905
END:VEVENT

END:VCALENDAR
