BEGIN:VCALENDAR
VERSION:2.0
PRODID:-//ChamberMaster//Event Calendar 2.0//EN
METHOD:PUBLISH
X-PUBLISHED-TTL:P3D
REFRESH-INTERVAL:P3D
CALSCALE:GREGORIAN
BEGIN:VEVENT
DTSTART:20150805T123000Z
DTEND:20150805T140000Z
X-MICROSOFT-CDO-ALLDAYEVENT:FALSE
SUMMARY:Ham'nd Eggs
DESCRIPTION:Ham'nd Eggs\n\nSponsored by Columbia Theatre and NTS Communication
X-ALT-DESC;FMTTYPE=text/html:Ham&#39\;nd Eggs<br />\nSponsored by Columbia Theatre and NTS Communication
LOCATION:Columbia Theatre 220 E. Thomas St. Hammond\, La
UID:e.1729.901
SEQUENCE:3
DTSTAMP:20260420T153739Z
URL:https://business.tangipahoachamber.org/events/details/ham-nd-eggs-08-05-2015-901
END:VEVENT

END:VCALENDAR
