BEGIN:VCALENDAR
VERSION:2.0
PRODID:-//ChamberMaster//Event Calendar 2.0//EN
METHOD:PUBLISH
X-PUBLISHED-TTL:P3D
REFRESH-INTERVAL:P3D
CALSCALE:GREGORIAN
BEGIN:VEVENT
DTSTART:20160803T123000Z
DTEND:20160803T140000Z
X-MICROSOFT-CDO-ALLDAYEVENT:FALSE
SUMMARY:Ham'nd Eggs
DESCRIPTION:Join us as we celebrate Ham'nd Eggs with our sponsor NTS Communications at the beautiful Southeastern Columbia Theatre.
X-ALT-DESC;FMTTYPE=text/html:Join us as we celebrate Ham&#39\;nd Eggs with our sponsor NTS Communications at the beautiful Southeastern Columbia Theatre.
LOCATION:Columbia Theatre Downtown Hammond
UID:e.1729.1234
SEQUENCE:3
DTSTAMP:20260419T134959Z
URL:https://business.tangipahoachamber.org/events/details/ham-nd-eggs-08-03-2016-1234
END:VEVENT

END:VCALENDAR
