BEGIN:VCALENDAR
VERSION:2.0
PRODID:-//ChamberMaster//Event Calendar 2.0//EN
METHOD:PUBLISH
X-PUBLISHED-TTL:P3D
REFRESH-INTERVAL:P3D
CALSCALE:GREGORIAN
BEGIN:VEVENT
DTSTART:20160203T133000Z
DTEND:20160203T150000Z
X-MICROSOFT-CDO-ALLDAYEVENT:FALSE
SUMMARY:Ham'nd Eggs
DESCRIPTION:Hamn'd Eggs is the best way to start your business day!  Special thanks to our sponsor Harry McKneely and Son\, Inc and host at First Christian Church.  Don't forget your business cards!
X-ALT-DESC;FMTTYPE=text/html:Hamn&#39\;d Eggs is the best way to start your business day!&nbsp\; Special thanks to our sponsor Harry McKneely and Son\, Inc and host at First Christian Church.&nbsp\; Don&#39\;t forget your business cards!
LOCATION:First Christian Church 305 E. Charles Street Hammond
UID:e.1729.1152
SEQUENCE:3
DTSTAMP:20260421T103816Z
URL:https://business.tangipahoachamber.org/events/details/ham-nd-eggs-02-03-2016-1152
END:VEVENT

END:VCALENDAR
