BEGIN:VCALENDAR
VERSION:2.0
PRODID:-//ChamberMaster//Event Calendar 2.0//EN
METHOD:PUBLISH
X-PUBLISHED-TTL:P3D
REFRESH-INTERVAL:P3D
CALSCALE:GREGORIAN
BEGIN:VEVENT
DTSTART:20160804T130000Z
DTEND:20160804T140000Z
X-MICROSOFT-CDO-ALLDAYEVENT:FALSE
SUMMARY:Governmental Affairs Committee Meeting
DESCRIPTION:Greater Hammond Chamber members are invited to participate on the Governmental Affairs committee.  For more information call the office at 985-345-4457.
X-ALT-DESC;FMTTYPE=text/html:Greater Hammond Chamber members are invited to participate&nbsp\;on&nbsp\;the&nbsp\;Governmental Affairs committee.&nbsp\; For more information call the office at 985-345-4457.
LOCATION:Chamber office 400 NW Railroad Avenue Hammond
UID:e.1729.1190
SEQUENCE:3
DTSTAMP:20260419T135541Z
URL:https://business.tangipahoachamber.org/events/details/governmental-affairs-committee-meeting-08-04-2016-1190
END:VEVENT

END:VCALENDAR
