BEGIN:VCALENDAR
VERSION:2.0
PRODID:-//ChamberMaster//Event Calendar 2.0//EN
METHOD:PUBLISH
X-PUBLISHED-TTL:P3D
REFRESH-INTERVAL:P3D
CALSCALE:GREGORIAN
BEGIN:VEVENT
DTSTART:20151024T170000Z
DTEND:20151024T220000Z
X-MICROSOFT-CDO-ALLDAYEVENT:FALSE
SUMMARY:Gnarly Barley Brewing's GnarBQ
DESCRIPTION:We will be releasing the first beer in our Gnar Series- Imperial Korova Milk Porter on draft and in bottles! \n\nFood Network Star Finalist Jay Ducote will be preparing the BBQ.\n\nWill Vance & The Kinfolk will be providing the tunes! \n\n$20 gets you in the door\, a plate of food cooked by Jay Ducote and a commemorative snifter glass filled with Imperial Korova Milk Porter. \n\nAdditional beer will be available to purchase and drink on site or buy bottles of Imperial Korova to go!\n\nTickets are limited so get yours while they last!\n\n \n\nFAQs\n\n \n\nAre there ID requirements or an age limit to enter the event?\n\nYes\, you must be 21 or older to attend this event.\n\n \n\nWhat are my transport/parking options getting to the event?\n\nFree parking is available in the field across the street from the brewery.\n\n \n\nWhat can/can't I bring to the event?\n\nFeel free to bring a chair if you'd like. We will have chairs\, but may not have enough to accommodate everyone. Please no pets inside during this event. \n\n \n\nWhere can I contact the organizer with any questions?\n\nCall us at 985-318-0723
X-ALT-DESC;FMTTYPE=text/html:<p><span style="color:rgb(51\, 51\, 51)\; font-family:arial\,verdana\,sans-serif">We will be releasing the first beer in our Gnar Series- Imperial Korova Milk Porter on draft and in bottles!&nbsp\;</span></p>\n\n<p><span style="color:rgb(51\, 51\, 51)\; font-family:arial\,verdana\,sans-serif">Food Network Star Finalist Jay Ducote will be preparing the BBQ.</span></p>\n\n<p><span style="color:rgb(51\, 51\, 51)\; font-family:arial\,verdana\,sans-serif">Will Vance &amp\; The Kinfolk will be providing the tunes!&nbsp\;</span></p>\n\n<p><span style="color:rgb(51\, 51\, 51)\; font-family:arial\,verdana\,sans-serif">$20 gets you in the door\, a plate of food cooked by Jay Ducote and a commemorative snifter glass filled with Imperial Korova Milk Porter.&nbsp\;</span></p>\n\n<p><span style="color:rgb(51\, 51\, 51)\; font-family:arial\,verdana\,sans-serif">Additional beer will be available to purchase and drink on site or buy bottles of Imperial Korova to go!</span></p>\n\n<p><span style="color:rgb(51\, 51\, 51)\; font-family:arial\,verdana\,sans-serif">Tickets are limited so get yours while they last!</span></p>\n\n<p>&nbsp\;</p>\n\n<p><strong>FAQs</strong></p>\n\n<p>&nbsp\;</p>\n\n<p><strong>Are there ID requirements or an age limit to enter the event?</strong></p>\n\n<p>Yes\, you must be 21 or older to attend this event.</p>\n\n<p>&nbsp\;</p>\n\n<p><strong>What are my transport/parking options getting to the event?</strong></p>\n\n<p>Free parking is available in the field across the street from the brewery.</p>\n\n<p>&nbsp\;</p>\n\n<p><strong>What can/can&#39\;t I bring to the event?</strong></p>\n\n<p>Feel free to bring a chair if you&#39\;d like. We will have chairs\, but may not have enough to accommodate everyone. Please no pets inside during this event.&nbsp\;</p>\n\n<p>&nbsp\;</p>\n\n<p><strong>Where can I contact the organizer with any questions?</strong></p>\n\n<p>Call us at 985-318-0723</p>\n\n<p>&nbsp\;</p>\n
LOCATION:Gnarly Barley Brewing 1709 Corbin Rd Hammond\, LA 70403
UID:e.1729.1128
SEQUENCE:3
DTSTAMP:20260422T105221Z
URL:https://business.tangipahoachamber.org/events/details/gnarly-barley-brewing-s-gnarbq-10-24-2015-1128
END:VEVENT

END:VCALENDAR
