BEGIN:VCALENDAR
VERSION:2.0
PRODID:-//ChamberMaster//Event Calendar 2.0//EN
METHOD:PUBLISH
X-PUBLISHED-TTL:P3D
REFRESH-INTERVAL:P3D
CALSCALE:GREGORIAN
BEGIN:VEVENT
DTSTART:20151020T163000Z
DTEND:20151020T180000Z
X-MICROSOFT-CDO-ALLDAYEVENT:FALSE
SUMMARY:General Meeting - featuring Dr. Loren C. Scott
DESCRIPTION:Registration for this event is closed.  \n\n\n\nDr. Loren C. Scott\, Louisiana Economist and Professor Emeritus at Louisiana State University\, will present his "Louisiana Economic Outlook" at the October luncheon\, sponsored by Florida Parishes Bank. Pre-registered businesses will also receive a CD with the report. Scott's much anticipated report presents a regional perspective and serves as a useful tool for business leaders as they plan for the coming year. \n\n\n\nBecause Tangipahoa Parish\, Hammond and Ponchatoula were named as the newest Louisiana Metropolitan Statistical Area in January\, the region will be included in the economic outlook for the first time this year. The new metro area has been predicted for the last two years\, and the region finally met the required thresholds at the start of 2015.
X-ALT-DESC;FMTTYPE=text/html:<span style="color: rgb(255\, 0\, 0)\;">Registration for this event is closed.&nbsp\; </span><br />\n<br />\nDr. Loren C. Scott\, Louisiana&nbsp\;Economist and Professor&nbsp\;Emeritus at Louisiana State University\,&nbsp\;will present his &quot\;Louisiana Economic&nbsp\;Outlook&quot\; at the October luncheon\,&nbsp\;sponsored by Florida Parishes Bank.&nbsp\;Pre-registered&nbsp\;businesses&nbsp\;will also receive a CD with the report.&nbsp\;Scott&#39\;s much anticipated report presents&nbsp\;a regional perspective and serves as&nbsp\;a useful tool for business leaders as they&nbsp\;plan for the coming year.&nbsp\;<br />\n<br />\nBecause Tangipahoa Parish\, Hammond&nbsp\;and Ponchatoula were named as&nbsp\;the newest Louisiana Metropolitan Statistical&nbsp\;Area in January\, the region will&nbsp\;be included in the economic outlook for&nbsp\;the first time this year. The new metro&nbsp\;area has been predicted for the last two&nbsp\;years\, and the region finally met the&nbsp\;required thresholds at the start of 2015.
LOCATION:Southeastern Louisiana University Student Union Grand Ballroom
UID:e.1729.1129
SEQUENCE:3
DTSTAMP:20260420T122559Z
URL:https://business.tangipahoachamber.org/events/details/general-meeting-featuring-dr-loren-c-scott-10-20-2015-1129
END:VEVENT

END:VCALENDAR
