BEGIN:VCALENDAR
VERSION:2.0
PRODID:-//ChamberMaster//Event Calendar 2.0//EN
METHOD:PUBLISH
X-PUBLISHED-TTL:P3D
REFRESH-INTERVAL:P3D
CALSCALE:GREGORIAN
BEGIN:VEVENT
DTSTART:20160930T133000Z
DTEND:20160930T143000Z
X-MICROSOFT-CDO-ALLDAYEVENT:FALSE
SUMMARY:Foundation Friday
DESCRIPTION:Chamber non-profits are invited to join us Friday\, September 30 for Foundation Friday.  Carla Mouton with the Northshore Community Foundation will  will lead the 8:30   9:30 am Round Table sharing secrets to grant writing.  This is one you don't want to miss.  As always\, there will be time to discuss current issues of importance to your program as well. Register online as seating will be limited to 20 non-profit leaders.\n\n\n\nOne-on-One appointments are available Friday morning as well to meet with NCF representatives to use the Foundation Center Online\, a subscription-based tool of the Community Foundation.  Call the Greater Hammond Chamber at 985-345-4457 to reserve your appointment today.
X-ALT-DESC;FMTTYPE=text/html:<span style="font-size: 12px\;"><span style="font-family: arial\;">Chamber non-profits are invited to join us&nbsp\;Friday\, September 30 for Foundation Friday.&nbsp\; Carla Mouton with the Northshore Community Foundation will &nbsp\;will lead the 8:30 &ndash\; 9:30 am Round Table&nbsp\;sharing secrets to grant writing.&nbsp\; This is one you don&#39\;t want to miss.&nbsp\;&nbsp\;As always\, there will be time to discuss current issues of importance to your program as well.&nbsp\;Register online as seating will be limited to 20 non-profit leaders.</span></span><br />\n<br />\n<span style="font-size: 12px\;"><span style="font-family: arial\;">One-on-One appointments are available Friday morning as well to meet with NCF representatives to use the Foundation Center Online\, a subscription-based tool of the Community Foundation.&nbsp\; Call the Greater Hammond Chamber at 985-345-4457 to reserve your appointment today.</span></span><br />\n&nbsp\;
LOCATION:Chamber office
UID:e.1729.1241
SEQUENCE:3
DTSTAMP:20260421T113542Z
URL:https://business.tangipahoachamber.org/events/details/foundation-friday-09-30-2016-1241
END:VEVENT

END:VCALENDAR
