BEGIN:VCALENDAR
VERSION:2.0
PRODID:-//ChamberMaster//Event Calendar 2.0//EN
METHOD:PUBLISH
X-PUBLISHED-TTL:P3D
REFRESH-INTERVAL:P3D
CALSCALE:GREGORIAN
BEGIN:VEVENT
DTSTART:20151015T180000Z
DTEND:20151015T200000Z
X-MICROSOFT-CDO-ALLDAYEVENT:FALSE
SUMMARY:Education Summit for Tangipahoa Parish Realtors
DESCRIPTION:Calling all REALTORS!!!\n\nCome and learn about what is happening in the Hammond School District and how it will improve sales and property values! \n\n \n\nWhat will we discuss?\n\nAs agents\, how we can help our parish grow\n\n\n	Information on the new student assignment program\n	IB programs - International Baccalaureate Education Program\n	Hammond Westside Elementary Montessori School\n	STEM and Communication Magnet Schools\n	The future of Tangipahoa schools\n\n The summit will be presented by Tangipahoa Principals  and representatives and is \n\nsponsored by the Greater Hammond Chamber of Commerce.
X-ALT-DESC;FMTTYPE=text/html:<span style="font-family: arial\;"><span style="font-size: 12px\;"><strong>Calling all REALTORS!!!</strong><br />\nCome and learn about what is happening in the Hammond School District and how it will improve sales and property values!&nbsp\;<br />\n&nbsp\;<br />\nWhat will we discuss?<br />\n<span style="font-family: arial\;"><span style="font-size: 12px\;">As agents\, how we can help our parish grow</span></span></span></span>\n\n<ul>\n	<li><span style="font-family: arial\;"><span style="font-size: 12px\;">Information on the new student assignment program</span></span></li>\n	<li><span style="font-family: arial\;"><span style="font-size: 12px\;">IB programs - International Baccalaureate Education Program</span></span></li>\n	<li><span style="font-family: arial\;"><span style="font-size: 12px\;">Hammond Westside Elementary Montessori School</span></span></li>\n	<li><span style="font-family: arial\;"><span style="font-size: 12px\;">STEM and Communication Magnet Schools</span></span></li>\n	<li><span style="font-family: arial\;"><span style="font-size: 12px\;">The future of Tangipahoa schools</span></span></li>\n</ul>\n<span style="font-family: arial\;"><span style="font-size: 12px\;">&nbsp\;<em>The summit will be presented by Tangipahoa Principals&nbsp\; and representatives and is </em><br />\n<em>sponsored by the Greater Hammond Chamber of Commerce.</em><br />\n&nbsp\;</span></span><br />\n<br />\n&nbsp\;
LOCATION:Southeastern Business Center 1514 Martens Drive\, Hammond Southeastern Louisiana University
UID:e.1729.1131
SEQUENCE:3
DTSTAMP:20260420T122849Z
URL:https://business.tangipahoachamber.org/events/details/education-summit-for-tangipahoa-parish-realtors-10-15-2015-1131
END:VEVENT

END:VCALENDAR
