BEGIN:VCALENDAR
VERSION:2.0
PRODID:-//ChamberMaster//Event Calendar 2.0//EN
METHOD:PUBLISH
X-PUBLISHED-TTL:P3D
REFRESH-INTERVAL:P3D
CALSCALE:GREGORIAN
BEGIN:VEVENT
DTSTART:20151006T163000Z
DTEND:20151006T180000Z
X-MICROSOFT-CDO-ALLDAYEVENT:FALSE
SUMMARY:Education Committee
DESCRIPTION:Education Committee Meeting
X-ALT-DESC;FMTTYPE=text/html:Education Committee Meeting
LOCATION:Locations vary.
UID:e.1729.569
SEQUENCE:3
DTSTAMP:20260420T122359Z
URL:https://business.tangipahoachamber.org/events/details/education-committee-10-06-2015-569
END:VEVENT

END:VCALENDAR
