BEGIN:VCALENDAR
VERSION:2.0
PRODID:-//ChamberMaster//Event Calendar 2.0//EN
METHOD:PUBLISH
X-PUBLISHED-TTL:P3D
REFRESH-INTERVAL:P3D
CALSCALE:GREGORIAN
BEGIN:VEVENT
DTSTART:20150904T150000Z
DTEND:20150904T160000Z
X-MICROSOFT-CDO-ALLDAYEVENT:FALSE
SUMMARY:Communications Committee
DESCRIPTION:Communications Committee
X-ALT-DESC;FMTTYPE=text/html:Communications Committee&nbsp\;&nbsp\;&nbsp\;&nbsp\;&nbsp\;&nbsp\;&nbsp\;&nbsp\;
LOCATION:Greater Hammond Chamber of Commerce 400 NW Railroad Ave.
UID:e.1729.592
SEQUENCE:3
DTSTAMP:20260420T135803Z
URL:https://business.tangipahoachamber.org/events/details/communications-committee-09-04-2015-592
END:VEVENT

END:VCALENDAR
