BEGIN:VCALENDAR
VERSION:2.0
PRODID:-//ChamberMaster//Event Calendar 2.0//EN
METHOD:PUBLISH
X-PUBLISHED-TTL:P3D
REFRESH-INTERVAL:P3D
CALSCALE:GREGORIAN
BEGIN:VEVENT
DTSTART:20150814T233000Z
DTEND:20150815T013000Z
X-MICROSOFT-CDO-ALLDAYEVENT:FALSE
SUMMARY:Chillin With The Chamber
DESCRIPTION:Chillin With The Chamber tickets are available for purchase.  Each ticket is $100 and admits two people into this groovy event.  This year's theme is Peace\, Love\, and Chamber where we are celebrating 65 year.  Attendees are encouraged to wear their best '60s attire for a far out good time!!  One lucky winner will walk away with the $10\,000 grand prize.  We will also have a second place winner who will receive jewelry from George Ibert Jewelry and a third place winner who will land a nice BBQ grill from Reeve's True Value.  Food will be provided by Buddies Bar and Grill with libations being provided by Jim Cary Distributors and Champagne Beverage.  Rock-it Productions will be providing us with our musical entertainment for the evening.  Please click the register button above to purchase your winning ticket.
X-ALT-DESC;FMTTYPE=text/html:Chillin With The Chamber tickets are available for purchase. &nbsp\;Each ticket is $100 and admits two people into this groovy event. &nbsp\;This year&#39\;s theme is Peace\, Love\, and Chamber where we are celebrating 65 year. &nbsp\;Attendees are encouraged to wear their best &#39\;60s attire for a far out good time!! &nbsp\;One lucky winner will walk away with the $10\,000 grand prize. &nbsp\;We will also have a second place winner who will receive jewelry from George Ibert Jewelry and a third place winner who will land a nice BBQ grill from Reeve&#39\;s True Value. &nbsp\;Food will be provided by Buddies Bar and Grill with libations&nbsp\;being provided by Jim Cary Distributors and Champagne Beverage. &nbsp\;Rock-it Productions will be providing us with our musical entertainment for the evening.&nbsp\;&nbsp\;Please click the register button above&nbsp\;to purchase your winning ticket.
LOCATION:Behind the Chamber office
UID:e.1729.913
SEQUENCE:3
DTSTAMP:20260420T153823Z
URL:https://business.tangipahoachamber.org/events/details/chillin-with-the-chamber-08-14-2015-913
END:VEVENT

END:VCALENDAR
