BEGIN:VCALENDAR
VERSION:2.0
PRODID:-//ChamberMaster//Event Calendar 2.0//EN
METHOD:PUBLISH
X-PUBLISHED-TTL:P3D
REFRESH-INTERVAL:P3D
CALSCALE:GREGORIAN
BEGIN:VEVENT
DTSTART:20160831T130000Z
DTEND:20160831T140000Z
X-MICROSOFT-CDO-ALLDAYEVENT:FALSE
SUMMARY:Chamber 101: Maximize your Membership
DESCRIPTION:Join us for Chamber 101: Maximize your membership to learn how to make the most of your chamber investment.  Open to new members and members who need a chamber refresher!
X-ALT-DESC;FMTTYPE=text/html:Join us for Chamber 101: Maximize your membership to learn how to make the most of your chamber investment.&nbsp\; Open to new members and members who need a chamber refresher!
LOCATION:Chamber office 400 NW Railroad Ave.
UID:e.1729.1167
SEQUENCE:3
DTSTAMP:20260419T135327Z
URL:https://business.tangipahoachamber.org/events/details/chamber-101-maximize-your-membership-08-31-2016-1167
END:VEVENT

END:VCALENDAR
