BEGIN:VCALENDAR
VERSION:2.0
PRODID:-//ChamberMaster//Event Calendar 2.0//EN
METHOD:PUBLISH
X-PUBLISHED-TTL:P3D
REFRESH-INTERVAL:P3D
CALSCALE:GREGORIAN
BEGIN:VEVENT
DTSTART:20160826T133000Z
DTEND:20160826T143000Z
X-MICROSOFT-CDO-ALLDAYEVENT:FALSE
SUMMARY:Cancelled--Foundation Friday
DESCRIPTION:See you next month!
X-ALT-DESC;FMTTYPE=text/html:<span style="font-size: medium\;"><span style="font-family: calibri\;">See you next month!</span></span>
LOCATION:
UID:e.1729.1240
SEQUENCE:3
DTSTAMP:20260419T135113Z
URL:https://business.tangipahoachamber.org/events/details/cancelled-foundation-friday-1240
END:VEVENT

END:VCALENDAR
