BEGIN:VCALENDAR
VERSION:2.0
PRODID:-//ChamberMaster//Event Calendar 2.0//EN
METHOD:PUBLISH
X-PUBLISHED-TTL:P3D
REFRESH-INTERVAL:P3D
CALSCALE:GREGORIAN
BEGIN:VEVENT
DTSTART:20160810T130000Z
DTEND:20160810T140000Z
X-MICROSOFT-CDO-ALLDAYEVENT:FALSE
SUMMARY:Board of Directors Meeting
DESCRIPTION:Board of Directors Meeting
X-ALT-DESC;FMTTYPE=text/html:Board of Directors Meeting
LOCATION:Greater Hammond Chamber of Commerce 400 NW Railroad Ave.
UID:e.1729.772
SEQUENCE:3
DTSTAMP:20260419T135609Z
URL:https://business.tangipahoachamber.org/events/details/board-of-directors-meeting-08-10-2016-772
END:VEVENT

END:VCALENDAR
