BEGIN:VCALENDAR
VERSION:2.0
PRODID:-//ChamberMaster//Event Calendar 2.0//EN
METHOD:PUBLISH
X-PUBLISHED-TTL:P3D
REFRESH-INTERVAL:P3D
CALSCALE:GREGORIAN
BEGIN:VEVENT
DTSTART:20150925T163000Z
DTEND:20150925T183000Z
X-MICROSOFT-CDO-ALLDAYEVENT:FALSE
SUMMARY:Annie Awards Luncheon
DESCRIPTION:This event is SOLD OUT!!!  \n\n\n\nThe Annie Awards are returning! Save this date for the Annie Awards Luncheon where four women will be honored for their contribution to the community!
X-ALT-DESC;FMTTYPE=text/html:<span style="font-size: 14px\;"><span style="color: rgb(255\, 0\, 0)\;">This event is SOLD OUT!!!&nbsp\; </span></span><br />\n<br />\nThe Annie Awards are returning! Save this date for the Annie Awards Luncheon where four women will be honored for their contribution to the community!<br />\n<br />\n&nbsp\;
LOCATION:Southeastern Louisiana University Grand Ballroom
UID:e.1729.1123
SEQUENCE:3
DTSTAMP:20260420T140115Z
URL:https://business.tangipahoachamber.org/events/details/annie-awards-luncheon-09-25-2015-1123
END:VEVENT

END:VCALENDAR
