BEGIN:VCALENDAR
VERSION:2.0
PRODID:-//ChamberMaster//Event Calendar 2.0//EN
METHOD:PUBLISH
X-PUBLISHED-TTL:P3D
REFRESH-INTERVAL:P3D
CALSCALE:GREGORIAN
BEGIN:VEVENT
DTSTART:20150807T160000Z
DTEND:20150807T170000Z
X-MICROSOFT-CDO-ALLDAYEVENT:FALSE
SUMMARY:Ambassador Council Meeting
DESCRIPTION:Ambassador Council Meeting
X-ALT-DESC;FMTTYPE=text/html:Ambassador Council Meeting
LOCATION:Greater Hammond Chamber of Commerce 400 NW Railroad Ave.
UID:e.1729.615
SEQUENCE:3
DTSTAMP:20260420T154957Z
URL:https://business.tangipahoachamber.org/events/details/ambassador-council-meeting-08-07-2015-615
END:VEVENT

END:VCALENDAR
