BEGIN:VCALENDAR
VERSION:2.0
PRODID:-//ChamberMaster//Event Calendar 2.0//EN
METHOD:PUBLISH
X-PUBLISHED-TTL:P3D
REFRESH-INTERVAL:P3D
CALSCALE:GREGORIAN
BEGIN:VEVENT
DTSTART:20260205T223000Z
DTEND:20260206T000000Z
X-MICROSOFT-CDO-ALLDAYEVENT:FALSE
SUMMARY:After Hours sponsored by First Guaranty Bank featuring the Krewe of Omega
DESCRIPTION:
X-ALT-DESC;FMTTYPE=text/html:
LOCATION:First Guaranty Bank Center 206 South Orange Street Hammond\, LA 70401
UID:e.1729.2781
SEQUENCE:3
DTSTAMP:20260419T135745Z
URL:https://business.tangipahoachamber.org/events/details/after-hours-sponsored-by-first-guaranty-bank-featuring-the-krewe-of-omega-2781
END:VEVENT

END:VCALENDAR
