BEGIN:VCALENDAR
VERSION:2.0
PRODID:-//ChamberMaster//Event Calendar 2.0//EN
METHOD:PUBLISH
X-PUBLISHED-TTL:P3D
REFRESH-INTERVAL:P3D
CALSCALE:GREGORIAN
BEGIN:VEVENT
DTSTART:20161117T223000Z
DTEND:20161118T003000Z
X-MICROSOFT-CDO-ALLDAYEVENT:FALSE
SUMMARY:After Hours
DESCRIPTION:One of the most anticipated After Hours of the Year!  Join us for our November After Hours sponsored by the Louisiana Renaissance Festival.   Look for more information as we get closer to the event about the festivities for the evening. This is a don't miss it opportunity to learn more about this popular local festival.
X-ALT-DESC;FMTTYPE=text/html:<span style="font-size:12px\;"><span style="font-family:arial\;">One of the most anticipated After Hours of the Year! &nbsp\;Join us for our November After Hours sponsored by the Louisiana Renaissance Festival. &nbsp\;&nbsp\;Look for more information as we get closer to the event about the festivities for the evening. This is a don&#39\;t miss it opportunity to learn more about this popular local festival.</span></span>
LOCATION:Louisiana Renaissance Festival 46468 River Road Hammond\, LA 70401
UID:e.1729.1207
SEQUENCE:3
DTSTAMP:20260423T111243Z
URL:https://business.tangipahoachamber.org/events/details/after-hours-11-17-2016-1207
END:VEVENT

END:VCALENDAR
