BEGIN:VCALENDAR
VERSION:2.0
PRODID:-//ChamberMaster//Event Calendar 2.0//EN
METHOD:PUBLISH
X-PUBLISHED-TTL:P3D
REFRESH-INTERVAL:P3D
CALSCALE:GREGORIAN
BEGIN:VEVENT
DTSTART:20151022T220000Z
DTEND:20151023T000000Z
X-MICROSOFT-CDO-ALLDAYEVENT:FALSE
SUMMARY:After Hours
DESCRIPTION:After Hours\n\nSponsored by Hampton Inn
X-ALT-DESC;FMTTYPE=text/html:After Hours<br />\nSponsored by Hampton Inn
LOCATION:Hampton Inn 401 Westin Oaks Drive
UID:e.1729.912
SEQUENCE:3
DTSTAMP:20260420T122300Z
URL:https://business.tangipahoachamber.org/events/details/after-hours-10-22-2015-912
END:VEVENT

END:VCALENDAR
